BEGIN:VCALENDAR
PRODID:-//Microsoft Corporation//Outlook 12.0 MIMEDIR//EN
VERSION:2.0
CALSCALE:GREGORIAN
BEGIN:VEVENT
UID: 10aafd8a-92df-4a61-a6e4-b0a7f45691ab
SUMMARY:Matemaatika riigieksam
DTSTAMP:20260520T100000
DTSTART:20260520T100000
DTEND:20260520T150000
LOCATION:aula, auditoorium, võimla, 407
DESCRIPTION: <p><strong>Link: </strong>https://koidulag.edu.ee/et/sundmuste-kalender/matemaatika-riigieksam-6</p><p><strong>Hind: </strong></p>
STATUS:CONFIRMED
SEQUENCE:3
X-ALT-DESC;FMTTYPE=text/html:<p><strong>Link: </strong>https://koidulag.edu.ee/et/sundmuste-kalender/matemaatika-riigieksam-6</p><p><strong>Hind: </strong></p>
X-MICROSOFT-CDO-BUSYSTATUS:OOF
X-MICROSOFT-CDO-IMPORTANCE:1
X-MICROSOFT-DISALLOW-COUNTER:FALSE
X-MS-OLK-ALLOWEXTERNCHECK:TRUE
X-MS-OLK-CONFTYPE:0
X-MICROSOFT-CDO-ALLDAYEVENT:
X-MICROSOFT-MSNCALENDAR-ALLDAYEVENT:
END:VEVENT
END:VCALENDAR